BEGIN:VCALENDAR
VERSION:2.0
PRODID:-//InvisionCommunity Events 4.7.23//EN
METHOD:PUBLISH
CALSCALE:GREGORIAN
REFRESH-INTERVAL:PT15M
X-PUBLISHED-TTL:PT15M
X-WR-CALNAME:Pogdesign
NAME:Pogdesign
BEGIN:VTIMEZONE
TZID:Europe/London
TZURL:http://tzurl.org/zoneinfo/Europe/London
X-LIC-LOCATION:Europe/London
BEGIN:DAYLIGHT
TZOFFSETFROM:+0000
TZOFFSETTO:+0100
TZNAME:BST
DTSTART:20160327T020000Z
RRULE:FREQ=YEARLY;BYMONTH=3;BYDAY=-1SU
END:DAYLIGHT
BEGIN:STANDARD
TZOFFSETFROM:+0100
TZOFFSETTO:+0000
TZNAME:GMT
DTSTART:20161030T020000Z
RRULE:FREQ=YEARLY;BYMONTH=10;BYDAY=-1SU
END:STANDARD
END:VTIMEZONE
BEGIN:VEVENT
SUMMARY:Bob's Burgers 7x7 - The Last Gingerbread House on the Left
DTSTAMP:20161114T101301Z
SEQUENCE:0
UID:62587-3-841ebed20eb198c4569419e99b7bf40a@themidnightzone.com
ORGANIZER;CN="Midnight":midnight@themidnightzone.com
DESCRIPTION:As the Belchers prepare for Christmas\, Bob gets an unexpect
	edcall from Mr. Fischoeder asking him to bring food to a party athis home.
	 When Bob arrives\, he discovers that he has gotteninvolved in an intense 
	gingerbread house building competitionwith Mr. Fischoeder's rowdy group of
	 friends. Meanwhile\, Lindaand Teddy try to inspire some Christmas cheer i
	n the neighborsas they take the kids caroling.
DTSTART:20161127T193000Z
DTEND:20161127T200000Z
END:VEVENT
END:VCALENDAR
