BEGIN:VCALENDAR
VERSION:2.0
PRODID:-//InvisionCommunity Events 4.7.23//EN
METHOD:PUBLISH
CALSCALE:GREGORIAN
REFRESH-INTERVAL:PT15M
X-PUBLISHED-TTL:PT15M
X-WR-CALNAME:Pogdesign
NAME:Pogdesign
BEGIN:VTIMEZONE
TZID:Europe/London
TZURL:http://tzurl.org/zoneinfo/Europe/London
X-LIC-LOCATION:Europe/London
BEGIN:DAYLIGHT
TZOFFSETFROM:+0000
TZOFFSETTO:+0100
TZNAME:BST
DTSTART:20160327T020000Z
RRULE:FREQ=YEARLY;BYMONTH=3;BYDAY=-1SU
END:DAYLIGHT
BEGIN:STANDARD
TZOFFSETFROM:+0100
TZOFFSETTO:+0000
TZNAME:GMT
DTSTART:20161030T020000Z
RRULE:FREQ=YEARLY;BYMONTH=10;BYDAY=-1SU
END:STANDARD
END:VTIMEZONE
BEGIN:VEVENT
SUMMARY:Two Doors Down 2x2 - Series 2\, Episode 2
DTSTAMP:20161117T021301Z
SEQUENCE:0
UID:62745-3-841ebed20eb198c4569419e99b7bf40a@themidnightzone.com
ORGANIZER;CN="Midnight":midnight@themidnightzone.com
DESCRIPTION:The neighbours are woken in the middle of the night when a c
	aralarm goes off. After meeting Eric in the street whilstsearching for the
	 source of the noise\, Colin and Christineinvite themselves to the Baird's
	 for a cup of tea\, with Cathyand Sophie not far behind. Soon\, an impromp
	tu late night partyis underway\, despite the unwilling hosts just wanting 
	to go totheir beds.
DTSTART:20161128T170000Z
DTEND:20161128T173000Z
END:VEVENT
END:VCALENDAR
