BEGIN:VCALENDAR
VERSION:2.0
PRODID:-//InvisionCommunity Events 4.7.23//EN
METHOD:PUBLISH
CALSCALE:GREGORIAN
REFRESH-INTERVAL:PT15M
X-PUBLISHED-TTL:PT15M
X-WR-CALNAME:Pogdesign
NAME:Pogdesign
BEGIN:VTIMEZONE
TZID:Europe/London
TZURL:http://tzurl.org/zoneinfo/Europe/London
X-LIC-LOCATION:Europe/London
BEGIN:DAYLIGHT
TZOFFSETFROM:+0000
TZOFFSETTO:+0100
TZNAME:BST
DTSTART:20160327T020000Z
RRULE:FREQ=YEARLY;BYMONTH=3;BYDAY=-1SU
END:DAYLIGHT
BEGIN:STANDARD
TZOFFSETFROM:+0100
TZOFFSETTO:+0000
TZNAME:GMT
DTSTART:20161030T020000Z
RRULE:FREQ=YEARLY;BYMONTH=10;BYDAY=-1SU
END:STANDARD
END:VTIMEZONE
BEGIN:VEVENT
SUMMARY:Shark Tank 8x10 - Season 8\, Episode 10
DTSTAMP:20161119T101300Z
SEQUENCE:0
UID:62907-3-841ebed20eb198c4569419e99b7bf40a@themidnightzone.com
ORGANIZER;CN="Midnight":midnight@themidnightzone.com
DESCRIPTION:When an entrepreneurial team from Santa Cruz\, California\,l
	eaves the Tank to discuss an offer for their electricskateboard business\,
	 they get a surprise from the Sharks upontheir return\; an MIT grad from S
	an Francisco\, California\,gave up a high-paying consultant job to focus o
	n makinghuman-quality pet food delivered fresh to your door\; a duofrom Sa
	n Francisco\, California\, has a new generation ofchewable coffee products
	 made to optimize physical and mentalfunction\; and a former restaurateur 
	and her husband designed aproduct that makes gourmet at-home cooking a bre
	eze. Also\, afollow-up on the mother-daughter team from the Denver\,Colora
	do\, and their Simply Fit Board\, which Lori Greinerinvested in during sea
	son 7.
DTSTART:20161202T210000Z
DTEND:20161202T220000Z
END:VEVENT
END:VCALENDAR
