BEGIN:VCALENDAR
VERSION:2.0
PRODID:-//InvisionCommunity Events 4.7.23//EN
METHOD:PUBLISH
CALSCALE:GREGORIAN
REFRESH-INTERVAL:PT15M
X-PUBLISHED-TTL:PT15M
X-WR-CALNAME:Pogdesign
NAME:Pogdesign
BEGIN:VTIMEZONE
TZID:Europe/London
TZURL:http://tzurl.org/zoneinfo/Europe/London
X-LIC-LOCATION:Europe/London
BEGIN:DAYLIGHT
TZOFFSETFROM:+0000
TZOFFSETTO:+0100
TZNAME:BST
DTSTART:20170326T020000Z
RRULE:FREQ=YEARLY;BYMONTH=3;BYDAY=-1SU
END:DAYLIGHT
BEGIN:STANDARD
TZOFFSETFROM:+0100
TZOFFSETTO:+0000
TZNAME:GMT
DTSTART:20171029T020000Z
RRULE:FREQ=YEARLY;BYMONTH=10;BYDAY=-1SU
END:STANDARD
END:VTIMEZONE
BEGIN:VEVENT
SUMMARY:Once Upon a Time 6x11 - Tougher Than the Rest
DTSTAMP:20161128T182300Z
SEQUENCE:0
UID:63342-3-841ebed20eb198c4569419e99b7bf40a@themidnightzone.com
ORGANIZER;CN="Midnight":midnight@themidnightzone.com
DESCRIPTION:With Snow still asleep in Storybrooke\, David and Hook race 
	tostop Gideon before he can confront Emma. Gideon makes astartling confess
	ion to Belle and Gold about his whereaboutswhile he was missing. Meanwhile
	\, Regina struggles with therealization that everyone\, perhaps even Robin
	\, is better offin the alternate world where the Evil Queen was defeated. 
	Andwhen Emma inspires a familiar face to help her and Reginareturn home\, 
	she discovers the power to change her fate.
DTSTART:20170305T200000Z
DTEND:20170305T210000Z
END:VEVENT
END:VCALENDAR
