BEGIN:VCALENDAR
VERSION:2.0
PRODID:-//InvisionCommunity Events 4.7.23//EN
METHOD:PUBLISH
CALSCALE:GREGORIAN
REFRESH-INTERVAL:PT15M
X-PUBLISHED-TTL:PT15M
X-WR-CALNAME:Pogdesign
NAME:Pogdesign
BEGIN:VTIMEZONE
TZID:Europe/London
TZURL:http://tzurl.org/zoneinfo/Europe/London
X-LIC-LOCATION:Europe/London
BEGIN:DAYLIGHT
TZOFFSETFROM:+0000
TZOFFSETTO:+0100
TZNAME:BST
DTSTART:20160327T020000Z
RRULE:FREQ=YEARLY;BYMONTH=3;BYDAY=-1SU
END:DAYLIGHT
BEGIN:STANDARD
TZOFFSETFROM:+0100
TZOFFSETTO:+0000
TZNAME:GMT
DTSTART:20161030T020000Z
RRULE:FREQ=YEARLY;BYMONTH=10;BYDAY=-1SU
END:STANDARD
END:VTIMEZONE
BEGIN:VEVENT
SUMMARY:Pokemon 19x42 - Rocking Kalos Defenses!
DTSTAMP:20161202T182300Z
SEQUENCE:0
UID:63539-3-841ebed20eb198c4569419e99b7bf40a@themidnightzone.com
ORGANIZER;CN="Midnight":midnight@themidnightzone.com
DESCRIPTION:Satoshi and Alan continue their battle against Fleur-De-Lis.
	They were successful in defeating Fleur-De-Lis. Meanwhile\,Harimaron was a
	bsorbed by the megalith crystal in Fleur-De-LisLabs\, which transforms int
	o a giant Crystal Zygarde. TheCrystal Zygarde was headed towards Hyakkoku 
	City to absorb thepower from the Hyakkoku sundial. This will result in apl
	anetary apocalypse. Satoshi\, Citron\, Alan\, Pachira\,Daigo\, the Kalos G
	ym Leaders\, and the Kalos League Championjoin forces to defeat the Crysta
	l Zygarde.
DTSTART:20161210T070000Z
DTEND:20161210T073000Z
END:VEVENT
END:VCALENDAR
