BEGIN:VCALENDAR
VERSION:2.0
PRODID:-//InvisionCommunity Events 4.7.23//EN
METHOD:PUBLISH
CALSCALE:GREGORIAN
REFRESH-INTERVAL:PT15M
X-PUBLISHED-TTL:PT15M
X-WR-CALNAME:Pogdesign
NAME:Pogdesign
BEGIN:VTIMEZONE
TZID:Europe/London
TZURL:http://tzurl.org/zoneinfo/Europe/London
X-LIC-LOCATION:Europe/London
BEGIN:DAYLIGHT
TZOFFSETFROM:+0000
TZOFFSETTO:+0100
TZNAME:BST
DTSTART:20170326T020000Z
RRULE:FREQ=YEARLY;BYMONTH=3;BYDAY=-1SU
END:DAYLIGHT
BEGIN:STANDARD
TZOFFSETFROM:+0100
TZOFFSETTO:+0000
TZNAME:GMT
DTSTART:20171029T020000Z
RRULE:FREQ=YEARLY;BYMONTH=10;BYDAY=-1SU
END:STANDARD
END:VTIMEZONE
BEGIN:VEVENT
SUMMARY:Grimm 6x5 - The Seven Year Itch
DTSTAMP:20170131T182002Z
SEQUENCE:0
UID:63821-3-841ebed20eb198c4569419e99b7bf40a@themidnightzone.com
ORGANIZER;CN="Midnight":midnight@themidnightzone.com
DESCRIPTION:Nick and Hank join Wu to investigate a bizarre murder in alo
	cal park. Elsewhere\, Capt. Renard continues to deal with aghost from his 
	past. Meanwhile\, Monroe and Rosalee visit thedoctor to see if Diana's pre
	monition is true. Back at theloft\, Adalind finds a very weak Eve in the t
	unnels andmysterious drawings scrawled on the walls.
DTSTART:20170203T200000Z
DTEND:20170203T210000Z
END:VEVENT
END:VCALENDAR
