BEGIN:VCALENDAR
VERSION:2.0
PRODID:-//InvisionCommunity Events 4.7.23//EN
METHOD:PUBLISH
CALSCALE:GREGORIAN
REFRESH-INTERVAL:PT15M
X-PUBLISHED-TTL:PT15M
X-WR-CALNAME:Pogdesign
NAME:Pogdesign
BEGIN:VTIMEZONE
TZID:Europe/London
TZURL:http://tzurl.org/zoneinfo/Europe/London
X-LIC-LOCATION:Europe/London
BEGIN:DAYLIGHT
TZOFFSETFROM:+0000
TZOFFSETTO:+0100
TZNAME:BST
DTSTART:20170326T020000Z
RRULE:FREQ=YEARLY;BYMONTH=3;BYDAY=-1SU
END:DAYLIGHT
BEGIN:STANDARD
TZOFFSETFROM:+0100
TZOFFSETTO:+0000
TZNAME:GMT
DTSTART:20171029T020000Z
RRULE:FREQ=YEARLY;BYMONTH=10;BYDAY=-1SU
END:STANDARD
END:VTIMEZONE
BEGIN:VEVENT
SUMMARY:Emerald City 1x8 - Lions in Winter
DTSTAMP:20170204T064803Z
SEQUENCE:0
UID:64572-3-841ebed20eb198c4569419e99b7bf40a@themidnightzone.com
ORGANIZER;CN="Midnight":midnight@themidnightzone.com
DESCRIPTION:When Dorothy and Lucas arrive at Glinda's castle she reclaim
	ssomething for which she has been searching. The Wizard heads tothe Kingdo
	m of Ev to build his weapons arsenal. Meanwhile\,West uses some dangerous 
	magic to help Tip reconnect with herpast. In the Kingdom of Ev\, Jack stru
	ggles to find his placein Langwidere's life.
DTSTART:20170217T210000Z
DTEND:20170217T220000Z
END:VEVENT
END:VCALENDAR
