BEGIN:VCALENDAR
VERSION:2.0
PRODID:-//InvisionCommunity Events 4.7.23//EN
METHOD:PUBLISH
CALSCALE:GREGORIAN
REFRESH-INTERVAL:PT15M
X-PUBLISHED-TTL:PT15M
X-WR-CALNAME:Pogdesign
NAME:Pogdesign
BEGIN:VTIMEZONE
TZID:Europe/London
TZURL:http://tzurl.org/zoneinfo/Europe/London
X-LIC-LOCATION:Europe/London
BEGIN:DAYLIGHT
TZOFFSETFROM:+0000
TZOFFSETTO:+0100
TZNAME:BST
DTSTART:20170326T020000Z
RRULE:FREQ=YEARLY;BYMONTH=3;BYDAY=-1SU
END:DAYLIGHT
BEGIN:STANDARD
TZOFFSETFROM:+0100
TZOFFSETTO:+0000
TZNAME:GMT
DTSTART:20171029T020000Z
RRULE:FREQ=YEARLY;BYMONTH=10;BYDAY=-1SU
END:STANDARD
END:VTIMEZONE
BEGIN:VEVENT
SUMMARY:Big Little Lies 1x1 - Somebody's Dead
DTSTAMP:20170206T064803Z
SEQUENCE:0
UID:64659-3-841ebed20eb198c4569419e99b7bf40a@themidnightzone.com
ORGANIZER;CN="Midnight":midnight@themidnightzone.com
DESCRIPTION:In the affluent beachfront community of Monterey\, Cal.\, as
	uspicious death at a coastal elementary school fundraiserdraws attention t
	o the frictions among some of the mothers.Madeline and Celeste\, longtime 
	friends and confidantes\,welcome newcomer Jane and her son\, Ziggy\, into 
	their innercircle\, much to the chagrin of another mother\, Renata. Aninci
	dent with the children at school causes battle lines to bedrawn.
DTSTART:20170219T210000Z
DTEND:20170219T220000Z
END:VEVENT
END:VCALENDAR
