BEGIN:VCALENDAR
VERSION:2.0
PRODID:-//InvisionCommunity Events 4.7.23//EN
METHOD:PUBLISH
CALSCALE:GREGORIAN
REFRESH-INTERVAL:PT15M
X-PUBLISHED-TTL:PT15M
X-WR-CALNAME:Pogdesign
NAME:Pogdesign
BEGIN:VTIMEZONE
TZID:Europe/London
TZURL:http://tzurl.org/zoneinfo/Europe/London
X-LIC-LOCATION:Europe/London
BEGIN:DAYLIGHT
TZOFFSETFROM:+0000
TZOFFSETTO:+0100
TZNAME:BST
DTSTART:20170326T020000Z
RRULE:FREQ=YEARLY;BYMONTH=3;BYDAY=-1SU
END:DAYLIGHT
BEGIN:STANDARD
TZOFFSETFROM:+0100
TZOFFSETTO:+0000
TZNAME:GMT
DTSTART:20171029T020000Z
RRULE:FREQ=YEARLY;BYMONTH=10;BYDAY=-1SU
END:STANDARD
END:VTIMEZONE
BEGIN:VEVENT
SUMMARY:Chicago PD 4x15 - Favor\, Affection\, Malice or Ill-Will
DTSTAMP:20170209T064803Z
SEQUENCE:0
UID:64873-3-841ebed20eb198c4569419e99b7bf40a@themidnightzone.com
ORGANIZER;CN="Midnight":midnight@themidnightzone.com
DESCRIPTION:When Lindsay is tipped off about a grieving father looking t
	oavenge his daughter's death\, Olinsky goes undercover as ahitman-for-hire
	. With Gang Intelligence lacking enough evidenceto arrest the original gan
	g-banger in question\, the team worksto reinvestigate the case. Ruzek come
	s back after finishing hisundercover assignment only to have Voight knock 
	him down topatrol duty.
DTSTART:20170222T220000Z
DTEND:20170222T230000Z
END:VEVENT
END:VCALENDAR
