BEGIN:VCALENDAR
VERSION:2.0
PRODID:-//InvisionCommunity Events 4.7.23//EN
METHOD:PUBLISH
CALSCALE:GREGORIAN
REFRESH-INTERVAL:PT15M
X-PUBLISHED-TTL:PT15M
X-WR-CALNAME:At My TV
NAME:At My TV
BEGIN:VTIMEZONE
TZID:Europe/London
TZURL:http://tzurl.org/zoneinfo/Europe/London
X-LIC-LOCATION:Europe/London
BEGIN:DAYLIGHT
TZOFFSETFROM:+0000
TZOFFSETTO:+0100
TZNAME:BST
DTSTART:20260329T020000Z
RRULE:FREQ=YEARLY;BYMONTH=3;BYDAY=-1SU
END:DAYLIGHT
BEGIN:STANDARD
TZOFFSETFROM:+0100
TZOFFSETTO:+0000
TZNAME:GMT
DTSTART:20261025T020000Z
RRULE:FREQ=YEARLY;BYMONTH=10;BYDAY=-1SU
END:STANDARD
END:VTIMEZONE
BEGIN:VEVENT
SUMMARY:20/20 255x8 - Yogurt Shop Murders
DTSTAMP:20170209T104804Z
SEQUENCE:0
UID:64898-2-841ebed20eb198c4569419e99b7bf40a@themidnightzone.com
ORGANIZER;CN="Midnight":midnight@themidnightzone.com
DESCRIPTION:It was a case that stunned the nation more than three decade
	sago and continues to make headlines today. In December 1991\,four teenage
	 girls were found murdered inside an Austin\,Texas\, yogurt shop\, and the
	 store had been set ablaze\,resulting in the loss of critical crime scene 
	evidence. Leavinglaw enforcement with few leads\, four teenage boys wereid
	entified as suspects. Two gave false confessions and weresubsequently conv
	icted of the murders. One was sentenced todeath row\, and the other was se
	ntenced to life in prison.Ultimately\, their convictions were overturned\,
	 and the casewent cold\, leaving the victims' families fighting for answer
	s.Decades later\, a new cold case detective cracked the case wideopen\, le
	ading authorities to a serial killer. And just lastweek\, in an emotional 
	courtroom\, the case that has hauntedTexas for 34 years reached its conclu
	sion\, giving families andthe formerly accused the answers and justice the
	y deserved. 
DTSTART:20260228T020000Z
DTEND:20260228T040000Z
END:VEVENT
END:VCALENDAR
