BEGIN:VCALENDAR
VERSION:2.0
PRODID:-//InvisionCommunity Events 4.7.23//EN
METHOD:PUBLISH
CALSCALE:GREGORIAN
REFRESH-INTERVAL:PT15M
X-PUBLISHED-TTL:PT15M
X-WR-CALNAME:At My TV
NAME:At My TV
BEGIN:VTIMEZONE
TZID:Europe/London
TZURL:http://tzurl.org/zoneinfo/Europe/London
X-LIC-LOCATION:Europe/London
BEGIN:DAYLIGHT
TZOFFSETFROM:+0000
TZOFFSETTO:+0100
TZNAME:BST
DTSTART:20170326T020000Z
RRULE:FREQ=YEARLY;BYMONTH=3;BYDAY=-1SU
END:DAYLIGHT
BEGIN:STANDARD
TZOFFSETFROM:+0100
TZOFFSETTO:+0000
TZNAME:GMT
DTSTART:20171029T020000Z
RRULE:FREQ=YEARLY;BYMONTH=10;BYDAY=-1SU
END:STANDARD
END:VTIMEZONE
BEGIN:VEVENT
SUMMARY:The Middle 8x15 - Dental Hijinks
DTSTAMP:20170209T104805Z
SEQUENCE:0
UID:64928-2-841ebed20eb198c4569419e99b7bf40a@themidnightzone.com
ORGANIZER;CN="Midnight":midnight@themidnightzone.com
DESCRIPTION:After Frankie tries to get a stubborn Mike to go see Dr.Good
	win to take care of his toothache\, Mike convinces the gooddoctor to leave
	 his tooth alone and tell Frankie thateverything was ok. But the two find 
	themselves fabricating astory that's so ludicrous that they fear Frankie w
	ill figureout the truth. Meanwhile\, since they are nearing the end ofthei
	r senior year at college\, Axl\, Hutch and Kenny decideit's time to sell t
	he fabled Winnebago\; Sue tries her best tolet college golf cart driver Ty
	ler know that she likes him\;and Brick attempts to write a historic Scotti
	sh rap musical - ala \"Hamilton\" - focusing on the life of Sergeant Charl
	es StuartMacKenzie.
DTSTART:20170222T010000Z
DTEND:20170222T013000Z
END:VEVENT
END:VCALENDAR
