BEGIN:VCALENDAR
VERSION:2.0
PRODID:-//InvisionCommunity Events 4.7.23//EN
METHOD:PUBLISH
CALSCALE:GREGORIAN
REFRESH-INTERVAL:PT15M
X-PUBLISHED-TTL:PT15M
X-WR-CALNAME:Pogdesign
NAME:Pogdesign
BEGIN:VTIMEZONE
TZID:Europe/London
TZURL:http://tzurl.org/zoneinfo/Europe/London
X-LIC-LOCATION:Europe/London
BEGIN:DAYLIGHT
TZOFFSETFROM:+0000
TZOFFSETTO:+0100
TZNAME:BST
DTSTART:20170326T020000Z
RRULE:FREQ=YEARLY;BYMONTH=3;BYDAY=-1SU
END:DAYLIGHT
BEGIN:STANDARD
TZOFFSETFROM:+0100
TZOFFSETTO:+0000
TZNAME:GMT
DTSTART:20171029T020000Z
RRULE:FREQ=YEARLY;BYMONTH=10;BYDAY=-1SU
END:STANDARD
END:VTIMEZONE
BEGIN:VEVENT
SUMMARY:Chicago Justice 1x1 - Fake (3)
DTSTAMP:20170216T064804Z
SEQUENCE:0
UID:65270-3-841ebed20eb198c4569419e99b7bf40a@themidnightzone.com
ORGANIZER;CN="Midnight":midnight@themidnightzone.com
DESCRIPTION:Firehouse 51 responded to a horrific warehouse fire that kil
	led39 people. This led the Chicago P.D. on a manhunt for thesuspect. Now w
	ith someone in custody for both arson andmultiple murders\, it is up to Pe
	ter Stone and his team\,including lead investigator Antonio Dawson to step
	 in to bringsome peace and resolution to so many families and friends ofth
	ose lost - including one very close to home. When the teamcomes face to fa
	ce with a hotshot attorney\, they findthemselves up against a dicey confes
	sion\, incriminatingevidence\, and a questionable motive.
DTSTART:20170301T220000Z
DTEND:20170301T230000Z
END:VEVENT
END:VCALENDAR
