BEGIN:VCALENDAR
VERSION:2.0
PRODID:-//InvisionCommunity Events 4.7.23//EN
METHOD:PUBLISH
CALSCALE:GREGORIAN
REFRESH-INTERVAL:PT15M
X-PUBLISHED-TTL:PT15M
X-WR-CALNAME:At My TV
NAME:At My TV
BEGIN:VTIMEZONE
TZID:Europe/London
TZURL:http://tzurl.org/zoneinfo/Europe/London
X-LIC-LOCATION:Europe/London
BEGIN:DAYLIGHT
TZOFFSETFROM:+0000
TZOFFSETTO:+0100
TZNAME:BST
DTSTART:20170326T020000Z
RRULE:FREQ=YEARLY;BYMONTH=3;BYDAY=-1SU
END:DAYLIGHT
BEGIN:STANDARD
TZOFFSETFROM:+0100
TZOFFSETTO:+0000
TZNAME:GMT
DTSTART:20171029T020000Z
RRULE:FREQ=YEARLY;BYMONTH=10;BYDAY=-1SU
END:STANDARD
END:VTIMEZONE
BEGIN:VEVENT
SUMMARY:Gap Year 1x1 - China - The Wall
DTSTAMP:20170221T104800Z
SEQUENCE:0
UID:65582-2-841ebed20eb198c4569419e99b7bf40a@themidnightzone.com
ORGANIZER;CN="Midnight":midnight@themidnightzone.com
DESCRIPTION:In the first episode\, Sean is horrified to discover that hi
	sbest mate Dylan has a secret plan that threatens to derailtheir 'lads hol
	iday' to China. Things start looking up whenthey meet two American girls\,
	 Ashley and May\, and middle-agedhanger-on Greg. But\, when old tensions r
	esurface and createcarnage at a music festival on the Great Wall\, Sean su
	ddenlyfinds himself way out of his depth.
DTSTART:20170223T210000Z
DTEND:20170223T220000Z
END:VEVENT
END:VCALENDAR
