BEGIN:VCALENDAR
VERSION:2.0
PRODID:-//InvisionCommunity Events 4.7.23//EN
METHOD:PUBLISH
CALSCALE:GREGORIAN
REFRESH-INTERVAL:PT15M
X-PUBLISHED-TTL:PT15M
X-WR-CALNAME:Pogdesign
NAME:Pogdesign
BEGIN:VTIMEZONE
TZID:Europe/London
TZURL:http://tzurl.org/zoneinfo/Europe/London
X-LIC-LOCATION:Europe/London
BEGIN:DAYLIGHT
TZOFFSETFROM:+0000
TZOFFSETTO:+0100
TZNAME:BST
DTSTART:20170326T020000Z
RRULE:FREQ=YEARLY;BYMONTH=3;BYDAY=-1SU
END:DAYLIGHT
BEGIN:STANDARD
TZOFFSETFROM:+0100
TZOFFSETTO:+0000
TZNAME:GMT
DTSTART:20171029T020000Z
RRULE:FREQ=YEARLY;BYMONTH=10;BYDAY=-1SU
END:STANDARD
END:VTIMEZONE
BEGIN:VEVENT
SUMMARY:Chicago Med 2x16 - Prisoner's Dilemma
DTSTAMP:20170224T085603Z
SEQUENCE:0
UID:65736-3-841ebed20eb198c4569419e99b7bf40a@themidnightzone.com
ORGANIZER;CN="Midnight":midnight@themidnightzone.com
DESCRIPTION:Dr. Reese is contacted for help by a troubled teen in apsych
	iatric facility and Dr. Manning tries to help parents makea decision about
	 their comatose daughter's surprise pregnancy.April begins to deal with re
	percussions from her personal life.Meanwhile\, Dr. Choi and Dr. Rhodes wor
	k to save both a younggirl from Ecuador who collapsed mid-flight\, as well
	 as hermother\, who made great sacrifices for her daughter.
DTSTART:20170309T210000Z
DTEND:20170309T220000Z
END:VEVENT
END:VCALENDAR
