BEGIN:VCALENDAR
VERSION:2.0
PRODID:-//InvisionCommunity Events 4.7.23//EN
METHOD:PUBLISH
CALSCALE:GREGORIAN
REFRESH-INTERVAL:PT15M
X-PUBLISHED-TTL:PT15M
X-WR-CALNAME:Pogdesign
NAME:Pogdesign
BEGIN:VTIMEZONE
TZID:Europe/London
TZURL:http://tzurl.org/zoneinfo/Europe/London
X-LIC-LOCATION:Europe/London
BEGIN:DAYLIGHT
TZOFFSETFROM:+0000
TZOFFSETTO:+0100
TZNAME:BST
DTSTART:20170326T020000Z
RRULE:FREQ=YEARLY;BYMONTH=3;BYDAY=-1SU
END:DAYLIGHT
BEGIN:STANDARD
TZOFFSETFROM:+0100
TZOFFSETTO:+0000
TZNAME:GMT
DTSTART:20171029T020000Z
RRULE:FREQ=YEARLY;BYMONTH=10;BYDAY=-1SU
END:STANDARD
END:VTIMEZONE
BEGIN:VEVENT
SUMMARY:SS-GB 1x4 - Series 1\, Episode 4
DTSTAMP:20170226T085602Z
SEQUENCE:0
UID:65840-3-841ebed20eb198c4569419e99b7bf40a@themidnightzone.com
ORGANIZER;CN="Midnight":midnight@themidnightzone.com
DESCRIPTION:With the army imposing martial law and a rounding-up ofResis
	tance members\, Archer faces life-changing decisions.Barbara's surprise pr
	oposal could provide a safe haven forArcher and his son\, but can he reall
	y trust her with thecountry's most sought-after possession? Despite being 
	caught inthe middle of a battle between Kellermann and Huth\, willArcher f
	inally agree to help free the King?.
DTSTART:20170312T170000Z
DTEND:20170312T180000Z
END:VEVENT
END:VCALENDAR
