BEGIN:VCALENDAR
VERSION:2.0
PRODID:-//InvisionCommunity Events 4.7.23//EN
METHOD:PUBLISH
CALSCALE:GREGORIAN
REFRESH-INTERVAL:PT15M
X-PUBLISHED-TTL:PT15M
X-WR-CALNAME:Pogdesign
NAME:Pogdesign
BEGIN:VTIMEZONE
TZID:Europe/London
TZURL:http://tzurl.org/zoneinfo/Europe/London
X-LIC-LOCATION:Europe/London
BEGIN:DAYLIGHT
TZOFFSETFROM:+0000
TZOFFSETTO:+0100
TZNAME:BST
DTSTART:20170326T020000Z
RRULE:FREQ=YEARLY;BYMONTH=3;BYDAY=-1SU
END:DAYLIGHT
BEGIN:STANDARD
TZOFFSETFROM:+0100
TZOFFSETTO:+0000
TZNAME:GMT
DTSTART:20171029T020000Z
RRULE:FREQ=YEARLY;BYMONTH=10;BYDAY=-1SU
END:STANDARD
END:VTIMEZONE
BEGIN:VEVENT
SUMMARY:Catastrophe 3x3 - Series 3\, Episode 3
DTSTAMP:20170228T085602Z
SEQUENCE:0
UID:65978-3-841ebed20eb198c4569419e99b7bf40a@themidnightzone.com
ORGANIZER;CN="Midnight":midnight@themidnightzone.com
DESCRIPTION:Rob and Sharon find themselves facing financial difficultyaf
	ter hearing bad news from the estate agent. Rob's at anall-time low and tr
	ies to battle his weight gain by joining agym. Sharon's friend Fran is als
	o dealing with vanity issuesand tries to kick start a new life with plasti
	c surgery. A lastditch attempt to resolve their money problems results in 
	Robbeing humiliated - will it lead him crawling back to his oldjob?
DTSTART:20170314T180000Z
DTEND:20170314T183000Z
END:VEVENT
END:VCALENDAR
