BEGIN:VCALENDAR
VERSION:2.0
PRODID:-//InvisionCommunity Events 4.7.23//EN
METHOD:PUBLISH
CALSCALE:GREGORIAN
REFRESH-INTERVAL:PT15M
X-PUBLISHED-TTL:PT15M
X-WR-CALNAME:Pogdesign
NAME:Pogdesign
BEGIN:VTIMEZONE
TZID:Europe/London
TZURL:http://tzurl.org/zoneinfo/Europe/London
X-LIC-LOCATION:Europe/London
BEGIN:DAYLIGHT
TZOFFSETFROM:+0000
TZOFFSETTO:+0100
TZNAME:BST
DTSTART:20170326T020000Z
RRULE:FREQ=YEARLY;BYMONTH=3;BYDAY=-1SU
END:DAYLIGHT
BEGIN:STANDARD
TZOFFSETFROM:+0100
TZOFFSETTO:+0000
TZNAME:GMT
DTSTART:20171029T020000Z
RRULE:FREQ=YEARLY;BYMONTH=10;BYDAY=-1SU
END:STANDARD
END:VTIMEZONE
BEGIN:VEVENT
SUMMARY:Bones 12x11 - The Day in the Life
DTSTAMP:20170308T085604Z
SEQUENCE:0
UID:66436-3-841ebed20eb198c4569419e99b7bf40a@themidnightzone.com
ORGANIZER;CN="Midnight":midnight@themidnightzone.com
DESCRIPTION:Each leading character's final story begins to unfold. Brenn
	antestifies for Zach in trial\, Angela reveals some big news\,while Aubrey
	 and Jessica come to terms about their futuretogether. All the while\, the
	 team discovers Kovac hasescaped\, leaving Booth in a race against the clo
	ck to protecthimself and those closest to him from what may be Kovac's mos
	tdangerous plan yet.
DTSTART:20170321T210000Z
DTEND:20170321T220000Z
END:VEVENT
END:VCALENDAR
