BEGIN:VCALENDAR
VERSION:2.0
PRODID:-//InvisionCommunity Events 4.7.23//EN
METHOD:PUBLISH
CALSCALE:GREGORIAN
REFRESH-INTERVAL:PT15M
X-PUBLISHED-TTL:PT15M
X-WR-CALNAME:Pogdesign
NAME:Pogdesign
BEGIN:VTIMEZONE
TZID:Europe/London
TZURL:http://tzurl.org/zoneinfo/Europe/London
X-LIC-LOCATION:Europe/London
BEGIN:DAYLIGHT
TZOFFSETFROM:+0000
TZOFFSETTO:+0100
TZNAME:BST
DTSTART:20170326T020000Z
RRULE:FREQ=YEARLY;BYMONTH=3;BYDAY=-1SU
END:DAYLIGHT
BEGIN:STANDARD
TZOFFSETFROM:+0100
TZOFFSETTO:+0000
TZNAME:GMT
DTSTART:20171029T020000Z
RRULE:FREQ=YEARLY;BYMONTH=10;BYDAY=-1SU
END:STANDARD
END:VTIMEZONE
BEGIN:VEVENT
SUMMARY:Empire 3x10 - Sound and Fury
DTSTAMP:20170309T085603Z
SEQUENCE:0
UID:66509-3-841ebed20eb198c4569419e99b7bf40a@themidnightzone.com
ORGANIZER;CN="Midnight":midnight@themidnightzone.com
DESCRIPTION:After launching a deadly missile at Angelo\, Lucious announc
	eshis new music project\, Inferno\, and puts everyone on notice -especiall
	y Cookie\, who then vows to knock him off his thronefor good. The two enga
	ge in an epic clash - fueled by a historyof love\, loyalty and betrayal. M
	eanwhile\, Jamal befriendsmusician Tory Ash during his stay in rehab\, And
	re continueswith his plan to take over EMPIRE\, and Hakeem and Tiana battl
	eNessa for a spot in the music showcase.
DTSTART:20170322T210000Z
DTEND:20170322T220000Z
END:VEVENT
END:VCALENDAR
