BEGIN:VCALENDAR
VERSION:2.0
PRODID:-//InvisionCommunity Events 4.7.23//EN
METHOD:PUBLISH
CALSCALE:GREGORIAN
REFRESH-INTERVAL:PT15M
X-PUBLISHED-TTL:PT15M
X-WR-CALNAME:At My TV
NAME:At My TV
BEGIN:VTIMEZONE
TZID:Europe/London
TZURL:http://tzurl.org/zoneinfo/Europe/London
X-LIC-LOCATION:Europe/London
BEGIN:DAYLIGHT
TZOFFSETFROM:+0000
TZOFFSETTO:+0100
TZNAME:BST
DTSTART:20170326T020000Z
RRULE:FREQ=YEARLY;BYMONTH=3;BYDAY=-1SU
END:DAYLIGHT
BEGIN:STANDARD
TZOFFSETFROM:+0100
TZOFFSETTO:+0000
TZNAME:GMT
DTSTART:20171029T020000Z
RRULE:FREQ=YEARLY;BYMONTH=10;BYDAY=-1SU
END:STANDARD
END:VTIMEZONE
BEGIN:VEVENT
SUMMARY:Riverdale 1x9 - Chapter Nine: La Grande Illusion
DTSTAMP:20170310T125559Z
SEQUENCE:0
UID:66594-2-841ebed20eb198c4569419e99b7bf40a@themidnightzone.com
ORGANIZER;CN="Midnight":midnight@themidnightzone.com
DESCRIPTION:Archie reluctantly agrees to escort Cheryl to her family'sof
	ficial start of maple syrup tapping because he gets an offerthat could hel
	p his future. Archie starts to become skepticalof the real reason the Blos
	soms are so eager to help him\,however he gets some helpful information fo
	r Betty about hersister. Veronica is trying to be nice and unbeknownst to 
	her\,befriends a classmate that her father's illegal doings hashurt. Hermi
	one is conflicted about telling Fred the truth.Meanwhile\, Alice is ready 
	to get revenge on the Blossoms onceand for all with the help of her two da
	ughters.
DTSTART:20170407T010000Z
DTEND:20170407T020000Z
END:VEVENT
END:VCALENDAR
