BEGIN:VCALENDAR
VERSION:2.0
PRODID:-//InvisionCommunity Events 4.7.23//EN
METHOD:PUBLISH
CALSCALE:GREGORIAN
REFRESH-INTERVAL:PT15M
X-PUBLISHED-TTL:PT15M
X-WR-CALNAME:Pogdesign
NAME:Pogdesign
BEGIN:VTIMEZONE
TZID:Europe/London
TZURL:http://tzurl.org/zoneinfo/Europe/London
X-LIC-LOCATION:Europe/London
BEGIN:DAYLIGHT
TZOFFSETFROM:+0000
TZOFFSETTO:+0100
TZNAME:BST
DTSTART:20170326T020000Z
RRULE:FREQ=YEARLY;BYMONTH=3;BYDAY=-1SU
END:DAYLIGHT
BEGIN:STANDARD
TZOFFSETFROM:+0100
TZOFFSETTO:+0000
TZNAME:GMT
DTSTART:20171029T020000Z
RRULE:FREQ=YEARLY;BYMONTH=10;BYDAY=-1SU
END:STANDARD
END:VTIMEZONE
BEGIN:VEVENT
SUMMARY:Hand of God 2x10 - He Must Be
DTSTAMP:20170310T165603Z
SEQUENCE:0
UID:66610-3-841ebed20eb198c4569419e99b7bf40a@themidnightzone.com
ORGANIZER;CN="Midnight":midnight@themidnightzone.com
DESCRIPTION:Pernell teams with KD to mete out their own brand of justice
	 toSan Vicente's dirty cops\, confronts Bobo about his betrayal\,and faces
	 the man he now believes is responsible for tearinghis family apart. Jocel
	yn joins Crystal on a journey to protectPJ's legacy\, as Paul considers a 
	new alliance with Pernell.Tessie tries to convince KD that Pernell cannot 
	be trusted.
DTSTART:20170319T235900Z
DTEND:20170320T005900Z
END:VEVENT
END:VCALENDAR
