BEGIN:VCALENDAR
VERSION:2.0
PRODID:-//InvisionCommunity Events 4.7.23//EN
METHOD:PUBLISH
CALSCALE:GREGORIAN
REFRESH-INTERVAL:PT15M
X-PUBLISHED-TTL:PT15M
X-WR-CALNAME:Pogdesign
NAME:Pogdesign
BEGIN:VTIMEZONE
TZID:Europe/London
TZURL:http://tzurl.org/zoneinfo/Europe/London
X-LIC-LOCATION:Europe/London
BEGIN:DAYLIGHT
TZOFFSETFROM:+0000
TZOFFSETTO:+0100
TZNAME:BST
DTSTART:20170326T020000Z
RRULE:FREQ=YEARLY;BYMONTH=3;BYDAY=-1SU
END:DAYLIGHT
BEGIN:STANDARD
TZOFFSETFROM:+0100
TZOFFSETTO:+0000
TZNAME:GMT
DTSTART:20171029T020000Z
RRULE:FREQ=YEARLY;BYMONTH=10;BYDAY=-1SU
END:STANDARD
END:VTIMEZONE
BEGIN:VEVENT
SUMMARY:The Last Kingdom 2x2 - Season 2\, Episode 2
DTSTAMP:20170311T085603Z
SEQUENCE:0
UID:66636-3-841ebed20eb198c4569419e99b7bf40a@themidnightzone.com
ORGANIZER;CN="Midnight":midnight@themidnightzone.com
DESCRIPTION:When spies infiltrate the Cumbraland army\, Uhtred must rely
	 onhis troops to protect him from a perilous attack. Spurred on bythe rece
	nt rogue ambush\, Guthred makes a decision to march onEoferwic. However\, 
	Abbot Eadred's disapproval of Uhtred growsto dangerous heights and his inf
	luence over the Dane Kingthreatens the alliance between Guthred and Uhtred
	. Findinghimself face to face with ruthless brothers Erik and Sigefrid\,wi
	ll Guthred's efforts to emulate Alfred's conciliatory tacticsbackfire? Mea
	nwhile\, Hild goes on a journey of self-discoveryas she considers exchangi
	ng her life as a nun for that of awarrior. Seeking to prove herself to Uht
	red's men\, she setsabout a gruesome task. Elsewhere\, Kjartan's thirst fo
	r revengegrows stronger\, as Uhtred rides as the dead horseman onceagain. 
	When affection between Uhtred and Gisela reaches newheights\, Uhtred's ene
	mies close in and he suffers a gravebetrayal.
DTSTART:20170323T220000Z
DTEND:20170323T230000Z
END:VEVENT
END:VCALENDAR
