BEGIN:VCALENDAR
VERSION:2.0
PRODID:-//InvisionCommunity Events 4.7.23//EN
METHOD:PUBLISH
CALSCALE:GREGORIAN
REFRESH-INTERVAL:PT15M
X-PUBLISHED-TTL:PT15M
X-WR-CALNAME:Pogdesign
NAME:Pogdesign
BEGIN:VTIMEZONE
TZID:Europe/London
TZURL:http://tzurl.org/zoneinfo/Europe/London
X-LIC-LOCATION:Europe/London
BEGIN:DAYLIGHT
TZOFFSETFROM:+0000
TZOFFSETTO:+0100
TZNAME:BST
DTSTART:20170326T020000Z
RRULE:FREQ=YEARLY;BYMONTH=3;BYDAY=-1SU
END:DAYLIGHT
BEGIN:STANDARD
TZOFFSETFROM:+0100
TZOFFSETTO:+0000
TZNAME:GMT
DTSTART:20171029T020000Z
RRULE:FREQ=YEARLY;BYMONTH=10;BYDAY=-1SU
END:STANDARD
END:VTIMEZONE
BEGIN:VEVENT
SUMMARY:Chicago PD 4x18 - Little Bit of Light
DTSTAMP:20170316T085603Z
SEQUENCE:0
UID:66941-3-841ebed20eb198c4569419e99b7bf40a@themidnightzone.com
ORGANIZER;CN="Midnight":midnight@themidnightzone.com
DESCRIPTION:When Chicago's &quot:Night Crawler&quot: Bobby Trent ismurde
	red over a single piece of mysterious footage\,Intelligence must investiga
	te one of Chicago's wealthiestfamilies - uncovering a lineage of old money
	 and secrets.Meanwhile\, Burgess's sister Nicole arrives at the District f
	ora visit\, and presents an icy attitude towards Ruzek.
DTSTART:20170329T220000Z
DTEND:20170329T230000Z
END:VEVENT
END:VCALENDAR
