BEGIN:VCALENDAR
VERSION:2.0
PRODID:-//InvisionCommunity Events 4.7.23//EN
METHOD:PUBLISH
CALSCALE:GREGORIAN
REFRESH-INTERVAL:PT15M
X-PUBLISHED-TTL:PT15M
X-WR-CALNAME:Pogdesign
NAME:Pogdesign
BEGIN:VTIMEZONE
TZID:Europe/London
TZURL:http://tzurl.org/zoneinfo/Europe/London
X-LIC-LOCATION:Europe/London
BEGIN:DAYLIGHT
TZOFFSETFROM:+0000
TZOFFSETTO:+0100
TZNAME:BST
DTSTART:20170326T020000Z
RRULE:FREQ=YEARLY;BYMONTH=3;BYDAY=-1SU
END:DAYLIGHT
BEGIN:STANDARD
TZOFFSETFROM:+0100
TZOFFSETTO:+0000
TZNAME:GMT
DTSTART:20171029T020000Z
RRULE:FREQ=YEARLY;BYMONTH=10;BYDAY=-1SU
END:STANDARD
END:VTIMEZONE
BEGIN:VEVENT
SUMMARY:Real Time with Bill Maher 15x10 - Season 15\, Episode 10
DTSTAMP:20170318T085603Z
SEQUENCE:0
UID:67076-3-841ebed20eb198c4569419e99b7bf40a@themidnightzone.com
ORGANIZER;CN="Midnight":midnight@themidnightzone.com
DESCRIPTION:Bill's interview guests are: Republican Political Consultant
	and Trump Confidant\, Roger Stone and the Former Director ofthe National S
	ecurity Agency\, General Michael Hayden. Bill'sroundtable guests are: Form
	er Republican US Senator andPresidential Candidate from Pennsylvania\, Ric
	k Santorum\,President for the Center for American Progress\, Neera Tandena
	nd the Founder and CEO of Define America and EmergingUS\, JoseAntonio Varg
	as.
DTSTART:20170331T220000Z
DTEND:20170331T230000Z
END:VEVENT
END:VCALENDAR
