BEGIN:VCALENDAR
VERSION:2.0
PRODID:-//InvisionCommunity Events 4.7.23//EN
METHOD:PUBLISH
CALSCALE:GREGORIAN
REFRESH-INTERVAL:PT15M
X-PUBLISHED-TTL:PT15M
X-WR-CALNAME:Pogdesign
NAME:Pogdesign
BEGIN:VTIMEZONE
TZID:Europe/London
TZURL:http://tzurl.org/zoneinfo/Europe/London
X-LIC-LOCATION:Europe/London
BEGIN:DAYLIGHT
TZOFFSETFROM:+0000
TZOFFSETTO:+0100
TZNAME:BST
DTSTART:20170326T020000Z
RRULE:FREQ=YEARLY;BYMONTH=3;BYDAY=-1SU
END:DAYLIGHT
BEGIN:STANDARD
TZOFFSETFROM:+0100
TZOFFSETTO:+0000
TZNAME:GMT
DTSTART:20171029T020000Z
RRULE:FREQ=YEARLY;BYMONTH=10;BYDAY=-1SU
END:STANDARD
END:VTIMEZONE
BEGIN:VEVENT
SUMMARY:Quantico 2x17 - Odyoke
DTSTAMP:20170402T043002Z
SEQUENCE:0
UID:67961-3-841ebed20eb198c4569419e99b7bf40a@themidnightzone.com
ORGANIZER;CN="Midnight":midnight@themidnightzone.com
DESCRIPTION:When one of Alex's friends is framed for a domestic terrorat
	tack\, they turn to her for help. With an upcoming vote inthe House for a 
	Muslim registry bill\, the task force realizesthis attack isn't a coincide
	nce. The Collaborators are activelystirring fear to pass the registry\, an
	d our team heads to theHill to turn the votes. Meanwhile\, Alex and Owen t
	rack down anassassin.
DTSTART:20170410T220000Z
DTEND:20170410T230000Z
END:VEVENT
END:VCALENDAR
