BEGIN:VCALENDAR
VERSION:2.0
PRODID:-//InvisionCommunity Events 4.7.23//EN
METHOD:PUBLISH
CALSCALE:GREGORIAN
REFRESH-INTERVAL:PT15M
X-PUBLISHED-TTL:PT15M
X-WR-CALNAME:At My TV
NAME:At My TV
BEGIN:VTIMEZONE
TZID:Europe/London
TZURL:http://tzurl.org/zoneinfo/Europe/London
X-LIC-LOCATION:Europe/London
BEGIN:DAYLIGHT
TZOFFSETFROM:+0000
TZOFFSETTO:+0100
TZNAME:BST
DTSTART:20170326T020000Z
RRULE:FREQ=YEARLY;BYMONTH=3;BYDAY=-1SU
END:DAYLIGHT
BEGIN:STANDARD
TZOFFSETFROM:+0100
TZOFFSETTO:+0000
TZNAME:GMT
DTSTART:20171029T020000Z
RRULE:FREQ=YEARLY;BYMONTH=10;BYDAY=-1SU
END:STANDARD
END:VTIMEZONE
BEGIN:VEVENT
SUMMARY:Vice 5x10 - Taliban Resurgence
DTSTAMP:20170421T111450Z
SEQUENCE:0
UID:69116-2-841ebed20eb198c4569419e99b7bf40a@themidnightzone.com
ORGANIZER;CN="Midnight":midnight@themidnightzone.com
DESCRIPTION:The Taliban now control more territory than they have at any
	point since they were overthrown in 2001. Yet the war inAfghanistan barely
	 gets mentioned today\, even as civilian andsecurity deaths continue to ri
	se. Ben Anderson returns to theconflict he's covered for ten years\, re-un
	iting with severalAfghans - an Army Major\, a Policeman who dismantles IED
	s and afamily who were forced to fight to defend their home - for ashockin
	g report that questions what America's longest war hasactually accomplishe
	d.
DTSTART:20170505T233000Z
DTEND:20170506T000000Z
END:VEVENT
END:VCALENDAR
