BEGIN:VCALENDAR
VERSION:2.0
PRODID:-//InvisionCommunity Events 4.7.23//EN
METHOD:PUBLISH
CALSCALE:GREGORIAN
REFRESH-INTERVAL:PT15M
X-PUBLISHED-TTL:PT15M
X-WR-CALNAME:At My TV
NAME:At My TV
BEGIN:VTIMEZONE
TZID:Europe/London
TZURL:http://tzurl.org/zoneinfo/Europe/London
X-LIC-LOCATION:Europe/London
BEGIN:DAYLIGHT
TZOFFSETFROM:+0000
TZOFFSETTO:+0100
TZNAME:BST
DTSTART:20170326T020000Z
RRULE:FREQ=YEARLY;BYMONTH=3;BYDAY=-1SU
END:DAYLIGHT
BEGIN:STANDARD
TZOFFSETFROM:+0100
TZOFFSETTO:+0000
TZNAME:GMT
DTSTART:20171029T020000Z
RRULE:FREQ=YEARLY;BYMONTH=10;BYDAY=-1SU
END:STANDARD
END:VTIMEZONE
BEGIN:VEVENT
SUMMARY:The Middle 8x22 - The Final Final
DTSTAMP:20170426T111449Z
SEQUENCE:0
UID:69396-2-841ebed20eb198c4569419e99b7bf40a@themidnightzone.com
ORGANIZER;CN="Midnight":midnight@themidnightzone.com
DESCRIPTION:Frankie\, Mike and Brick begin to notice that their luck has
	changed dramatically for the better after the Prairie Scoutsaccidentally p
	aint the Donahue's address on their curb\; andafter missing his final coll
	ege test before he graduates\, Axlpleads with his teacher to let him take 
	it\, otherwise he won'tbe able to graduate. Meanwhile\, Sue confides to Br
	ad that hersophomore year in college was kind of a letdown. But a chanceto
	 speak to students at her former high school about collegelife leads her t
	o a realization about her status as a studentwhile at Orson High. A talk w
	ith Brad leads into an impromptumusical number about Sue's many accomplish
	ments over the years.
DTSTART:20170510T000000Z
DTEND:20170510T003000Z
END:VEVENT
END:VCALENDAR
