BEGIN:VCALENDAR
VERSION:2.0
PRODID:-//InvisionCommunity Events 4.7.23//EN
METHOD:PUBLISH
CALSCALE:GREGORIAN
REFRESH-INTERVAL:PT15M
X-PUBLISHED-TTL:PT15M
X-WR-CALNAME:At My TV
NAME:At My TV
BEGIN:VTIMEZONE
TZID:Europe/London
TZURL:http://tzurl.org/zoneinfo/Europe/London
X-LIC-LOCATION:Europe/London
BEGIN:DAYLIGHT
TZOFFSETFROM:+0000
TZOFFSETTO:+0100
TZNAME:BST
DTSTART:20170326T020000Z
RRULE:FREQ=YEARLY;BYMONTH=3;BYDAY=-1SU
END:DAYLIGHT
BEGIN:STANDARD
TZOFFSETFROM:+0100
TZOFFSETTO:+0000
TZNAME:GMT
DTSTART:20171029T020000Z
RRULE:FREQ=YEARLY;BYMONTH=10;BYDAY=-1SU
END:STANDARD
END:VTIMEZONE
BEGIN:VEVENT
SUMMARY:Pretty Little Liars 7x14 - Power Play
DTSTAMP:20170426T111449Z
SEQUENCE:0
UID:69400-2-841ebed20eb198c4569419e99b7bf40a@themidnightzone.com
ORGANIZER;CN="Midnight":midnight@themidnightzone.com
DESCRIPTION:Ali's turn at the game forces her to face a monumental perso
	naldecision\, made even more difficult when A.D. triggers Ali toremember a
	 forgotten trauma. Spencer has a long overdueconversation with her father 
	about his past sins and recentwhereabouts. Emily continues to navigate wor
	king at RosewoodHigh with both Ali and Paige\, especially when Ali comes t
	o atroubling realization about her pregnancy\, and Paige makes abig decisi
	on. Aria continues to question the fate of herrelationship with Ezra and b
	ristles under A.D.'s taunts. And\,in the search for Mary Drake\, Hanna and
	 Spencer run into afamiliar face with a shocking secret.
DTSTART:20170510T000000Z
DTEND:20170510T010000Z
END:VEVENT
END:VCALENDAR
