BEGIN:VCALENDAR
VERSION:2.0
PRODID:-//InvisionCommunity Events 4.7.23//EN
METHOD:PUBLISH
CALSCALE:GREGORIAN
REFRESH-INTERVAL:PT15M
X-PUBLISHED-TTL:PT15M
X-WR-CALNAME:At My TV
NAME:At My TV
BEGIN:VTIMEZONE
TZID:Europe/London
TZURL:http://tzurl.org/zoneinfo/Europe/London
X-LIC-LOCATION:Europe/London
BEGIN:DAYLIGHT
TZOFFSETFROM:+0000
TZOFFSETTO:+0100
TZNAME:BST
DTSTART:20170326T020000Z
RRULE:FREQ=YEARLY;BYMONTH=3;BYDAY=-1SU
END:DAYLIGHT
BEGIN:STANDARD
TZOFFSETFROM:+0100
TZOFFSETTO:+0000
TZNAME:GMT
DTSTART:20171029T020000Z
RRULE:FREQ=YEARLY;BYMONTH=10;BYDAY=-1SU
END:STANDARD
END:VTIMEZONE
BEGIN:VEVENT
SUMMARY:Celebrity Juice 17x8 - Phillip Schofield\, Joey Essex\, Chri
	sRamsey
DTSTAMP:20170505T032647Z
SEQUENCE:0
UID:69870-2-841ebed20eb198c4569419e99b7bf40a@themidnightzone.com
ORGANIZER;CN="Midnight":midnight@themidnightzone.com
DESCRIPTION:Keith Lemon hosts another edition of the outrageous comedypa
	nel show\, aided by team captains Fearne Cotton and HollyWilloughby. Joini
	ng regular panellist Gino D'Acampo this timeare Holly's This Morning co-ho
	st Phillip Schofield\, reality TVstar Joey Essex and Geordie comedian Chri
	s Ramsey.
DTSTART:20170511T210000Z
DTEND:20170511T215000Z
END:VEVENT
END:VCALENDAR
