BEGIN:VCALENDAR
VERSION:2.0
PRODID:-//InvisionCommunity Events 4.7.23//EN
METHOD:PUBLISH
CALSCALE:GREGORIAN
REFRESH-INTERVAL:PT15M
X-PUBLISHED-TTL:PT15M
X-WR-CALNAME:Pogdesign
NAME:Pogdesign
BEGIN:VTIMEZONE
TZID:Europe/London
TZURL:http://tzurl.org/zoneinfo/Europe/London
X-LIC-LOCATION:Europe/London
BEGIN:DAYLIGHT
TZOFFSETFROM:+0000
TZOFFSETTO:+0100
TZNAME:BST
DTSTART:20170326T020000Z
RRULE:FREQ=YEARLY;BYMONTH=3;BYDAY=-1SU
END:DAYLIGHT
BEGIN:STANDARD
TZOFFSETFROM:+0100
TZOFFSETTO:+0000
TZNAME:GMT
DTSTART:20171029T020000Z
RRULE:FREQ=YEARLY;BYMONTH=10;BYDAY=-1SU
END:STANDARD
END:VTIMEZONE
BEGIN:VEVENT
SUMMARY:Fearless 1x3 - Series 1\, Episode 3
DTSTAMP:20170615T073902Z
SEQUENCE:0
UID:71564-3-841ebed20eb198c4569419e99b7bf40a@themidnightzone.com
ORGANIZER;CN="Midnight":midnight@themidnightzone.com
DESCRIPTION:After the previous night's events\, both of Emma's clients a
	rein prison\, leaving her with an empty house. Putting pressureon her\, DC
	S Greenwood demands information from Emma about themissing SIM card from M
	iriam's phone\, but Emma denies anyknowledge. Desperate for Emma to help h
	er get out\, Miriam asksher to give the SIM card to Yusef's cousin\, but h
	arbouringconcerns about Yusef and his intentions\, Emma isreluctant.Meanwh
	ile\, Emma and Dominic meet Siobhan\, a womanTony Pullings photographed in
	 2003. With Siobhan telling Emmathat Pullings hosted 'parties' that Linda 
	attended\, Emmaconfronts Staines about the new revelations\, but he refuse
	s tohelp her track down Pullings. Noticing that Linda is wearing aUS fight
	er tie-pin in the photos\, Emma is convinced thatthere's an American conne
	ction to her death\, so is determinedto find Pullings to establish the lin
	k\, with or withoutStaines' help.Following their fury that Emma wants to e
	xhumeLinda's body\, the Simms family also visit MP Matthew Wild toseek his
	 help. Will he find a way of obstructing the exhumationthat is vital to Em
	ma's case?.
DTSTART:20170626T170000Z
DTEND:20170626T180000Z
END:VEVENT
END:VCALENDAR
