BEGIN:VCALENDAR
VERSION:2.0
PRODID:-//InvisionCommunity Events 4.7.23//EN
METHOD:PUBLISH
CALSCALE:GREGORIAN
REFRESH-INTERVAL:PT15M
X-PUBLISHED-TTL:PT15M
X-WR-CALNAME:Pogdesign
NAME:Pogdesign
BEGIN:VTIMEZONE
TZID:Europe/London
TZURL:http://tzurl.org/zoneinfo/Europe/London
X-LIC-LOCATION:Europe/London
BEGIN:DAYLIGHT
TZOFFSETFROM:+0000
TZOFFSETTO:+0100
TZNAME:BST
DTSTART:20170326T020000Z
RRULE:FREQ=YEARLY;BYMONTH=3;BYDAY=-1SU
END:DAYLIGHT
BEGIN:STANDARD
TZOFFSETFROM:+0100
TZOFFSETTO:+0000
TZNAME:GMT
DTSTART:20171029T020000Z
RRULE:FREQ=YEARLY;BYMONTH=10;BYDAY=-1SU
END:STANDARD
END:VTIMEZONE
BEGIN:VEVENT
SUMMARY:The Graham Norton Show 21x12 - Judi Dench\, Steve Carell\,Kr
	isten Wiig\, Jamie Foxx
DTSTAMP:20170618T153904Z
SEQUENCE:0
UID:71686-3-841ebed20eb198c4569419e99b7bf40a@themidnightzone.com
ORGANIZER;CN="Midnight":midnight@themidnightzone.com
DESCRIPTION:Graham is joined by Dame Judi Dench who plays Queen Victoria
	 innew film Victoria and Abdul\, Steve Carell and Kristen Wiigtogether in 
	Despicable Me 3\, and Jamie Foxx who stars inmusical caper Baby Driver. Pl
	us\, HAIM perform Want You Back.
DTSTART:20170623T183500Z
DTEND:20170623T193500Z
END:VEVENT
END:VCALENDAR
