BEGIN:VCALENDAR
VERSION:2.0
PRODID:-//InvisionCommunity Events 4.7.23//EN
METHOD:PUBLISH
CALSCALE:GREGORIAN
REFRESH-INTERVAL:PT15M
X-PUBLISHED-TTL:PT15M
X-WR-CALNAME:At My TV
NAME:At My TV
BEGIN:VTIMEZONE
TZID:Europe/London
TZURL:http://tzurl.org/zoneinfo/Europe/London
X-LIC-LOCATION:Europe/London
BEGIN:DAYLIGHT
TZOFFSETFROM:+0000
TZOFFSETTO:+0100
TZNAME:BST
DTSTART:20170326T020000Z
RRULE:FREQ=YEARLY;BYMONTH=3;BYDAY=-1SU
END:DAYLIGHT
BEGIN:STANDARD
TZOFFSETFROM:+0100
TZOFFSETTO:+0000
TZNAME:GMT
DTSTART:20171029T020000Z
RRULE:FREQ=YEARLY;BYMONTH=10;BYDAY=-1SU
END:STANDARD
END:VTIMEZONE
BEGIN:VEVENT
SUMMARY:8 out of 10 cats 20x9 - Anthony Middleton\, Katherine Ryan\,
	Kerry Howard\, Ola
DTSTAMP:20170627T113859Z
SEQUENCE:0
UID:71957-2-841ebed20eb198c4569419e99b7bf40a@themidnightzone.com
ORGANIZER;CN="Midnight":midnight@themidnightzone.com
DESCRIPTION:Jimmy Carr hosts a new series of the comedy panel show witht
	eam captains Rob Beckett and Aisling Bea. The teams discussand dissect the
	 topics that set the great British public'schins wagging. In this show\, A
	isling is joined by AnthonyMiddleton and Katherine Ryan\, while Rob teams 
	up with comedyactress Kerry Howard and new comic Ola\, to uncover what top
	sthe nation's bucket list.
DTSTART:20170711T210000Z
DTEND:20170711T215000Z
END:VEVENT
END:VCALENDAR
