BEGIN:VCALENDAR
VERSION:2.0
PRODID:-//InvisionCommunity Events 4.7.23//EN
METHOD:PUBLISH
CALSCALE:GREGORIAN
REFRESH-INTERVAL:PT15M
X-PUBLISHED-TTL:PT15M
X-WR-CALNAME:At My TV
NAME:At My TV
BEGIN:VTIMEZONE
TZID:Europe/London
TZURL:http://tzurl.org/zoneinfo/Europe/London
X-LIC-LOCATION:Europe/London
BEGIN:DAYLIGHT
TZOFFSETFROM:+0000
TZOFFSETTO:+0100
TZNAME:BST
DTSTART:20170326T020000Z
RRULE:FREQ=YEARLY;BYMONTH=3;BYDAY=-1SU
END:DAYLIGHT
BEGIN:STANDARD
TZOFFSETFROM:+0100
TZOFFSETTO:+0000
TZNAME:GMT
DTSTART:20171029T020000Z
RRULE:FREQ=YEARLY;BYMONTH=10;BYDAY=-1SU
END:STANDARD
END:VTIMEZONE
BEGIN:VEVENT
SUMMARY:America's Got Talent 12x6 - Auditions\, Week 6
DTSTAMP:20170628T113859Z
SEQUENCE:0
UID:71993-2-841ebed20eb198c4569419e99b7bf40a@themidnightzone.com
ORGANIZER;CN="Midnight":midnight@themidnightzone.com
DESCRIPTION:The auditions continue with creator and executive producerSi
	mon Cowell at the judges table alongside Mel B\, Heidi Klum\,Howie Mandel 
	and host\, Tyra Banks. Variety acts of all typesand contestants of all age
	s audition for the chance to win themillion prize. The Golden Buzzer is ba
	ck and allows fivelucky acts the chance to go directly to the live perform
	ancerounds at the Dolby Theatre in Los Angeles to compete forAmerica's vot
	e.
DTSTART:20170712T000000Z
DTEND:20170712T020000Z
END:VEVENT
END:VCALENDAR
