BEGIN:VCALENDAR
VERSION:2.0
PRODID:-//InvisionCommunity Events 4.7.23//EN
METHOD:PUBLISH
CALSCALE:GREGORIAN
REFRESH-INTERVAL:PT15M
X-PUBLISHED-TTL:PT15M
X-WR-CALNAME:Pogdesign
NAME:Pogdesign
BEGIN:VTIMEZONE
TZID:Europe/London
TZURL:http://tzurl.org/zoneinfo/Europe/London
X-LIC-LOCATION:Europe/London
BEGIN:DAYLIGHT
TZOFFSETFROM:+0000
TZOFFSETTO:+0100
TZNAME:BST
DTSTART:20170326T020000Z
RRULE:FREQ=YEARLY;BYMONTH=3;BYDAY=-1SU
END:DAYLIGHT
BEGIN:STANDARD
TZOFFSETFROM:+0100
TZOFFSETTO:+0000
TZNAME:GMT
DTSTART:20171029T020000Z
RRULE:FREQ=YEARLY;BYMONTH=10;BYDAY=-1SU
END:STANDARD
END:VTIMEZONE
BEGIN:VEVENT
SUMMARY:Casualty 31x40 - War of the Roses
DTSTAMP:20170701T073905Z
SEQUENCE:0
UID:72090-3-841ebed20eb198c4569419e99b7bf40a@themidnightzone.com
ORGANIZER;CN="Midnight":midnight@themidnightzone.com
DESCRIPTION:The ED staff are surprised when Sam shows up to work in scru
	bsinstead of his usual suit. He reveals he has stepped down asmedical dire
	ctor\, and is now joining the department as aspeciality doctor. Dylan stru
	ggles to cope in the wake of Cal'sdeath\, and ends up having a panic attac
	k while trying to treata feisty retired nurse who admitted herself to hosp
	ital with aself-diagnosed heart attack. Luckily\, David is on hand toreach
	 out to the difficult patient\, and get to the bottom ofwhat's bothering D
	ylan
DTSTART:20170701T170000Z
DTEND:20170701T175000Z
END:VEVENT
END:VCALENDAR
