BEGIN:VCALENDAR
VERSION:2.0
PRODID:-//InvisionCommunity Events 4.7.23//EN
METHOD:PUBLISH
CALSCALE:GREGORIAN
REFRESH-INTERVAL:PT15M
X-PUBLISHED-TTL:PT15M
X-WR-CALNAME:Pogdesign
NAME:Pogdesign
BEGIN:VTIMEZONE
TZID:Europe/London
TZURL:http://tzurl.org/zoneinfo/Europe/London
X-LIC-LOCATION:Europe/London
BEGIN:DAYLIGHT
TZOFFSETFROM:+0000
TZOFFSETTO:+0100
TZNAME:BST
DTSTART:20170326T020000Z
RRULE:FREQ=YEARLY;BYMONTH=3;BYDAY=-1SU
END:DAYLIGHT
BEGIN:STANDARD
TZOFFSETFROM:+0100
TZOFFSETTO:+0000
TZNAME:GMT
DTSTART:20171029T020000Z
RRULE:FREQ=YEARLY;BYMONTH=10;BYDAY=-1SU
END:STANDARD
END:VTIMEZONE
BEGIN:VEVENT
SUMMARY:The Bold Type 1x6 - The Breast Issue
DTSTAMP:20170731T233906Z
SEQUENCE:0
UID:73260-3-841ebed20eb198c4569419e99b7bf40a@themidnightzone.com
ORGANIZER;CN="Midnight":midnight@themidnightzone.com
DESCRIPTION:In promoting Scarlet's breast health awareness campaign\, Ka
	ttries to be bold with her message\, but is left wonderingwhether her comp
	etitive nature is hurting her cause. Janeconfronts past issues and current
	 anxieties when she is taskedwith writing a controversial piece about BRCA
	 gene testing.Sutton is determined to excel at her tasks at hand\, but whe
	nthings fall apart\, it's Alex who rushes to her rescue.
DTSTART:20170808T210000Z
DTEND:20170808T214000Z
END:VEVENT
END:VCALENDAR
