BEGIN:VCALENDAR
VERSION:2.0
PRODID:-//InvisionCommunity Events 4.7.23//EN
METHOD:PUBLISH
CALSCALE:GREGORIAN
REFRESH-INTERVAL:PT15M
X-PUBLISHED-TTL:PT15M
X-WR-CALNAME:Pogdesign
NAME:Pogdesign
BEGIN:VTIMEZONE
TZID:Europe/London
TZURL:http://tzurl.org/zoneinfo/Europe/London
X-LIC-LOCATION:Europe/London
BEGIN:DAYLIGHT
TZOFFSETFROM:+0000
TZOFFSETTO:+0100
TZNAME:BST
DTSTART:20170326T020000Z
RRULE:FREQ=YEARLY;BYMONTH=3;BYDAY=-1SU
END:DAYLIGHT
BEGIN:STANDARD
TZOFFSETFROM:+0100
TZOFFSETTO:+0000
TZNAME:GMT
DTSTART:20171029T020000Z
RRULE:FREQ=YEARLY;BYMONTH=10;BYDAY=-1SU
END:STANDARD
END:VTIMEZONE
BEGIN:VEVENT
SUMMARY:Forged in Fire 4x14 - The Kachin Dao
DTSTAMP:20170731T233906Z
SEQUENCE:0
UID:73268-3-841ebed20eb198c4569419e99b7bf40a@themidnightzone.com
ORGANIZER;CN="Midnight":midnight@themidnightzone.com
DESCRIPTION:This competition isn't smooth sailing as the four bladesmith
	smust use steel from old nautical equipment to forge weld theirsignature b
	lade\, while being forced to do it using a metalinlay technique. After two
	 turbulent rounds\, two smiths propelto the final round where they have ju
	st five days to forge theKachin Dao\, a deadly headhunting sword. It's sin
	k or swim asonly one can rise above the tide to be named the Forged in Fir
	eChampion.
DTSTART:20170801T220000Z
DTEND:20170801T230000Z
END:VEVENT
END:VCALENDAR
