BEGIN:VCALENDAR
VERSION:2.0
PRODID:-//InvisionCommunity Events 4.7.23//EN
METHOD:PUBLISH
CALSCALE:GREGORIAN
REFRESH-INTERVAL:PT15M
X-PUBLISHED-TTL:PT15M
X-WR-CALNAME:Pogdesign
NAME:Pogdesign
BEGIN:VTIMEZONE
TZID:Europe/London
TZURL:http://tzurl.org/zoneinfo/Europe/London
X-LIC-LOCATION:Europe/London
BEGIN:DAYLIGHT
TZOFFSETFROM:+0000
TZOFFSETTO:+0100
TZNAME:BST
DTSTART:20170326T020000Z
RRULE:FREQ=YEARLY;BYMONTH=3;BYDAY=-1SU
END:DAYLIGHT
BEGIN:STANDARD
TZOFFSETFROM:+0100
TZOFFSETTO:+0000
TZNAME:GMT
DTSTART:20171029T020000Z
RRULE:FREQ=YEARLY;BYMONTH=10;BYDAY=-1SU
END:STANDARD
END:VTIMEZONE
BEGIN:VEVENT
SUMMARY:Masterchef (US) 8x11 - Vegas Deluxe & Oyster Shucks
DTSTAMP:20170803T073903Z
SEQUENCE:0
UID:73394-3-841ebed20eb198c4569419e99b7bf40a@themidnightzone.com
ORGANIZER;CN="Midnight":midnight@themidnightzone.com
DESCRIPTION:The Top 12 head to Sin City for a team challenge during whic
	hthey serve 50 VIPs in entertainment and hospitality at CaesarsPalace for 
	its 50th Anniversary party. Each guest tastes bothteams' dishes and then c
	asts a vote for their favorite dish.The team with the most votes wins\, se
	nding the losing teamback to the kitchen for a pressure test. It is then u
	p to thejudges to decide who heads home.
DTSTART:20170816T200000Z
DTEND:20170816T210000Z
END:VEVENT
END:VCALENDAR
