BEGIN:VCALENDAR
VERSION:2.0
PRODID:-//InvisionCommunity Events 4.7.23//EN
METHOD:PUBLISH
CALSCALE:GREGORIAN
REFRESH-INTERVAL:PT15M
X-PUBLISHED-TTL:PT15M
X-WR-CALNAME:At My TV
NAME:At My TV
BEGIN:VTIMEZONE
TZID:Europe/London
TZURL:http://tzurl.org/zoneinfo/Europe/London
X-LIC-LOCATION:Europe/London
BEGIN:DAYLIGHT
TZOFFSETFROM:+0000
TZOFFSETTO:+0100
TZNAME:BST
DTSTART:20170326T020000Z
RRULE:FREQ=YEARLY;BYMONTH=3;BYDAY=-1SU
END:DAYLIGHT
BEGIN:STANDARD
TZOFFSETFROM:+0100
TZOFFSETTO:+0000
TZNAME:GMT
DTSTART:20171029T020000Z
RRULE:FREQ=YEARLY;BYMONTH=10;BYDAY=-1SU
END:STANDARD
END:VTIMEZONE
BEGIN:VEVENT
SUMMARY:8 out of 10 Cats Does Countdown 12x6 - Jon Richardson\, Cari
	adLloyd\, Alan Carr\, Kevin Bridges\, Elis James\, John Robins
DTSTAMP:20170804T113852Z
SEQUENCE:0
UID:73429-2-841ebed20eb198c4569419e99b7bf40a@themidnightzone.com
ORGANIZER;CN="Midnight":midnight@themidnightzone.com
DESCRIPTION:Jimmy Carr hosts a new edition of the panel/quiz show mash-u
	pwith Jon Richardson and Cariad Lloyd\, who take on guestcaptain Alan Carr
	 and Kevin Bridges. Elis James and John Robinsare in Dictionary Corner.
DTSTART:20170818T210000Z
DTEND:20170818T220000Z
END:VEVENT
END:VCALENDAR
