BEGIN:VCALENDAR
VERSION:2.0
PRODID:-//InvisionCommunity Events 4.7.23//EN
METHOD:PUBLISH
CALSCALE:GREGORIAN
REFRESH-INTERVAL:PT15M
X-PUBLISHED-TTL:PT15M
X-WR-CALNAME:At My TV
NAME:At My TV
BEGIN:VTIMEZONE
TZID:Europe/London
TZURL:http://tzurl.org/zoneinfo/Europe/London
X-LIC-LOCATION:Europe/London
BEGIN:DAYLIGHT
TZOFFSETFROM:+0000
TZOFFSETTO:+0100
TZNAME:BST
DTSTART:20170326T020000Z
RRULE:FREQ=YEARLY;BYMONTH=3;BYDAY=-1SU
END:DAYLIGHT
BEGIN:STANDARD
TZOFFSETFROM:+0100
TZOFFSETTO:+0000
TZNAME:GMT
DTSTART:20171029T020000Z
RRULE:FREQ=YEARLY;BYMONTH=10;BYDAY=-1SU
END:STANDARD
END:VTIMEZONE
BEGIN:VEVENT
SUMMARY:Strictly Come Dancing 15x2 - Week 1
DTSTAMP:20170908T101948Z
SEQUENCE:0
UID:74781-2-841ebed20eb198c4569419e99b7bf40a@themidnightzone.com
ORGANIZER;CN="Midnight":midnight@themidnightzone.com
DESCRIPTION:Tonight\, the 15 couples will take to the Strictly ballroom 
	toperform live in front of our fabulous four judges - DarceyBussell\, Brun
	o Tonioli\, Craig Revel Horwood and our brand newHead Judge Shirley Ballas
	\, the British-born ballroom and Latindancer\, World Champion and internat
	ional coach known as the‘Queen of Latin'.The judges will score each coup
	le for thefirst time but luckily there will be no farewells this week\;ins
	tead their scores will be carried over to next weekend whenthe viewers get
	 the chance to vote for their favourite couple.
DTSTART:20170923T172500Z
DTEND:20170923T182500Z
END:VEVENT
END:VCALENDAR
