BEGIN:VCALENDAR
VERSION:2.0
PRODID:-//InvisionCommunity Events 4.7.23//EN
METHOD:PUBLISH
CALSCALE:GREGORIAN
REFRESH-INTERVAL:PT15M
X-PUBLISHED-TTL:PT15M
X-WR-CALNAME:At My TV
NAME:At My TV
BEGIN:VTIMEZONE
TZID:Europe/London
TZURL:http://tzurl.org/zoneinfo/Europe/London
X-LIC-LOCATION:Europe/London
BEGIN:DAYLIGHT
TZOFFSETFROM:+0000
TZOFFSETTO:+0100
TZNAME:BST
DTSTART:20170326T020000Z
RRULE:FREQ=YEARLY;BYMONTH=3;BYDAY=-1SU
END:DAYLIGHT
BEGIN:STANDARD
TZOFFSETFROM:+0100
TZOFFSETTO:+0000
TZNAME:GMT
DTSTART:20171029T020000Z
RRULE:FREQ=YEARLY;BYMONTH=10;BYDAY=-1SU
END:STANDARD
END:VTIMEZONE
BEGIN:VEVENT
SUMMARY:Empire (2015) 4x1 - Noble Memory
DTSTAMP:20170914T061545Z
SEQUENCE:0
UID:75060-2-841ebed20eb198c4569419e99b7bf40a@themidnightzone.com
ORGANIZER;CN="Midnight":midnight@themidnightzone.com
DESCRIPTION:In celebration of Empire's 20th Anniversary\, Lucious makes 
	hisfirst public appearance since the explosion in Las Vegas\, butstill has
	 no memory of his family\, Empire or his life beforethe accident. A devast
	ated Cookie struggles to rebuild herrelationship with him\, while keeping 
	a close eye on hisnurse\, Claudia (guest star Demi Moore). Meanwhile\, And
	re isfaced with an investigation by the LAPD surrounding the nightof the e
	xplosion\, Diana DuBois (guest star Phylicia Rashad)continues her war agai
	nst the Lyons and the worlds of EMPIREand STAR collide when Carlotta (gues
	t star Queen Latifah) comesface-to-face with Cookie and Lucious.
DTSTART:20170928T000000Z
DTEND:20170928T010000Z
END:VEVENT
END:VCALENDAR
