BEGIN:VCALENDAR
VERSION:2.0
PRODID:-//InvisionCommunity Events 4.7.23//EN
METHOD:PUBLISH
CALSCALE:GREGORIAN
REFRESH-INTERVAL:PT15M
X-PUBLISHED-TTL:PT15M
X-WR-CALNAME:At My TV
NAME:At My TV
BEGIN:VTIMEZONE
TZID:Europe/London
TZURL:http://tzurl.org/zoneinfo/Europe/London
X-LIC-LOCATION:Europe/London
BEGIN:DAYLIGHT
TZOFFSETFROM:+0000
TZOFFSETTO:+0100
TZNAME:BST
DTSTART:20170326T020000Z
RRULE:FREQ=YEARLY;BYMONTH=3;BYDAY=-1SU
END:DAYLIGHT
BEGIN:STANDARD
TZOFFSETFROM:+0100
TZOFFSETTO:+0000
TZNAME:GMT
DTSTART:20171029T020000Z
RRULE:FREQ=YEARLY;BYMONTH=10;BYDAY=-1SU
END:STANDARD
END:VTIMEZONE
BEGIN:VEVENT
SUMMARY:Ghosted 1x1 - Pilot
DTSTAMP:20170918T061546Z
SEQUENCE:0
UID:75263-2-841ebed20eb198c4569419e99b7bf40a@themidnightzone.com
ORGANIZER;CN="Midnight":midnight@themidnightzone.com
DESCRIPTION:When a key member of The Bureau Underground – a top secret
	government agency – goes missing\, Leroy\, a cynical formerdetective\, a
	nd Max\, a genius \"true believer\" in theparanormal\, are recruited to fi
	nd him. The two polar oppositesmust work together to find the agent\, whil
	e uncoveringpossible alien activity and chilling \"unexplained\" paranorma
	levents in their own city of Los Angeles.
DTSTART:20171002T003000Z
DTEND:20171002T010000Z
END:VEVENT
END:VCALENDAR
