BEGIN:VCALENDAR
VERSION:2.0
PRODID:-//InvisionCommunity Events 4.7.23//EN
METHOD:PUBLISH
CALSCALE:GREGORIAN
REFRESH-INTERVAL:PT15M
X-PUBLISHED-TTL:PT15M
X-WR-CALNAME:Pogdesign
NAME:Pogdesign
BEGIN:VTIMEZONE
TZID:Europe/London
TZURL:http://tzurl.org/zoneinfo/Europe/London
X-LIC-LOCATION:Europe/London
BEGIN:DAYLIGHT
TZOFFSETFROM:+0000
TZOFFSETTO:+0100
TZNAME:BST
DTSTART:20170326T020000Z
RRULE:FREQ=YEARLY;BYMONTH=3;BYDAY=-1SU
END:DAYLIGHT
BEGIN:STANDARD
TZOFFSETFROM:+0100
TZOFFSETTO:+0000
TZNAME:GMT
DTSTART:20171029T020000Z
RRULE:FREQ=YEARLY;BYMONTH=10;BYDAY=-1SU
END:STANDARD
END:VTIMEZONE
BEGIN:VEVENT
SUMMARY:The Great British Bake Off 8x6 - Pastry Week
DTSTAMP:20170924T101604Z
SEQUENCE:0
UID:75669-3-841ebed20eb198c4569419e99b7bf40a@themidnightzone.com
ORGANIZER;CN="Midnight":midnight@themidnightzone.com
DESCRIPTION:In week six there's a savoury signature\, where contestantsm
	ust impress judges Paul Hollywood and Prue Leith with styleand substance. 
	There's also a multi-layered technical\, and anambitious final challenge\,
	 in which the bakers make atraditional pie. Sandi Toksvig and Noel Fieldin
	g are with thecontestants every step of the way\, ready with a pertinent p
	eptalk or just a sympathetic shoulder to cry on. Also\, Sandiheads abroad 
	to discover how some unusual habits have inspireda classic pastry treat.
DTSTART:20171003T160000Z
DTEND:20171003T170000Z
END:VEVENT
END:VCALENDAR
