BEGIN:VCALENDAR
VERSION:2.0
PRODID:-//InvisionCommunity Events 4.7.23//EN
METHOD:PUBLISH
CALSCALE:GREGORIAN
REFRESH-INTERVAL:PT15M
X-PUBLISHED-TTL:PT15M
X-WR-CALNAME:At My TV
NAME:At My TV
BEGIN:VTIMEZONE
TZID:Europe/London
TZURL:http://tzurl.org/zoneinfo/Europe/London
X-LIC-LOCATION:Europe/London
BEGIN:DAYLIGHT
TZOFFSETFROM:+0000
TZOFFSETTO:+0100
TZNAME:BST
DTSTART:20170326T020000Z
RRULE:FREQ=YEARLY;BYMONTH=3;BYDAY=-1SU
END:DAYLIGHT
BEGIN:STANDARD
TZOFFSETFROM:+0100
TZOFFSETTO:+0000
TZNAME:GMT
DTSTART:20171029T020000Z
RRULE:FREQ=YEARLY;BYMONTH=10;BYDAY=-1SU
END:STANDARD
END:VTIMEZONE
BEGIN:VEVENT
SUMMARY:The Brave 1x3 - The Greater Good
DTSTAMP:20170926T061543Z
SEQUENCE:0
UID:75744-2-841ebed20eb198c4569419e99b7bf40a@themidnightzone.com
ORGANIZER;CN="Midnight":midnight@themidnightzone.com
DESCRIPTION:After receiving intel that a serious player in dealingintern
	ational arms\, Ranier Boothe\, will be visiting Caborca\,Mexico\, Patricia
	 makes a controversial decision that couldlead to a big break through. Wit
	h Dalton's team on the ground\,they must find a weak link in Boothe's men 
	in order to carryout the mission. Meanwhile\, Noah learns about Hannah'sco
	mplicated past in the field.
DTSTART:20171010T020000Z
DTEND:20171010T030000Z
END:VEVENT
END:VCALENDAR
