BEGIN:VCALENDAR
VERSION:2.0
PRODID:-//InvisionCommunity Events 4.7.23//EN
METHOD:PUBLISH
CALSCALE:GREGORIAN
REFRESH-INTERVAL:PT15M
X-PUBLISHED-TTL:PT15M
X-WR-CALNAME:Pogdesign
NAME:Pogdesign
BEGIN:VTIMEZONE
TZID:Europe/London
TZURL:http://tzurl.org/zoneinfo/Europe/London
X-LIC-LOCATION:Europe/London
BEGIN:DAYLIGHT
TZOFFSETFROM:+0000
TZOFFSETTO:+0100
TZNAME:BST
DTSTART:20170326T020000Z
RRULE:FREQ=YEARLY;BYMONTH=3;BYDAY=-1SU
END:DAYLIGHT
BEGIN:STANDARD
TZOFFSETFROM:+0100
TZOFFSETTO:+0000
TZNAME:GMT
DTSTART:20171029T020000Z
RRULE:FREQ=YEARLY;BYMONTH=10;BYDAY=-1SU
END:STANDARD
END:VTIMEZONE
BEGIN:VEVENT
SUMMARY:Forged in Fire 4x19 - International Championship
DTSTAMP:20170926T101603Z
SEQUENCE:0
UID:75769-3-841ebed20eb198c4569419e99b7bf40a@themidnightzone.com
ORGANIZER;CN="Midnight":midnight@themidnightzone.com
DESCRIPTION:Four of the top bladesmiths from around the globe compete in
	the first-ever world championship. With national pride on theline\, each s
	mith must put their blood\, sweat\, and fire intoforging a blade in their 
	signature style. Frustration runsrampant in the forge as pressure mounts\,
	 and two smiths areforced to return home empty-handed. The finalists must 
	recreatethe Spadroon in their last effort to bring home the title.
DTSTART:20171003T220000Z
DTEND:20171003T230000Z
END:VEVENT
END:VCALENDAR
