BEGIN:VCALENDAR
VERSION:2.0
PRODID:-//InvisionCommunity Events 4.7.23//EN
METHOD:PUBLISH
CALSCALE:GREGORIAN
REFRESH-INTERVAL:PT15M
X-PUBLISHED-TTL:PT15M
X-WR-CALNAME:At My TV
NAME:At My TV
BEGIN:VTIMEZONE
TZID:Europe/London
TZURL:http://tzurl.org/zoneinfo/Europe/London
X-LIC-LOCATION:Europe/London
BEGIN:DAYLIGHT
TZOFFSETFROM:+0000
TZOFFSETTO:+0100
TZNAME:BST
DTSTART:20170326T020000Z
RRULE:FREQ=YEARLY;BYMONTH=3;BYDAY=-1SU
END:DAYLIGHT
BEGIN:STANDARD
TZOFFSETFROM:+0100
TZOFFSETTO:+0000
TZNAME:GMT
DTSTART:20171029T020000Z
RRULE:FREQ=YEARLY;BYMONTH=10;BYDAY=-1SU
END:STANDARD
END:VTIMEZONE
BEGIN:VEVENT
SUMMARY:Fresh Off the Boat 4x2 - First Day
DTSTAMP:20170927T061544Z
SEQUENCE:0
UID:75796-2-841ebed20eb198c4569419e99b7bf40a@themidnightzone.com
ORGANIZER;CN="Midnight":midnight@themidnightzone.com
DESCRIPTION:It's the first day of high school and Eddie wants to join th
	efootball team to impress girlfriend Alison\, despite Jessicaforbidding hi
	m to try out. Emery finds out that Evan has beenmoved up a grade and is in
	 middle school with him. Louisbattles with Kenny Roger's right-hand man (g
	uest star MattOberg) over changes at the steakhouse.
DTSTART:20171011T003000Z
DTEND:20171011T010000Z
END:VEVENT
END:VCALENDAR
