BEGIN:VCALENDAR
VERSION:2.0
PRODID:-//InvisionCommunity Events 4.7.23//EN
METHOD:PUBLISH
CALSCALE:GREGORIAN
REFRESH-INTERVAL:PT15M
X-PUBLISHED-TTL:PT15M
X-WR-CALNAME:At My TV
NAME:At My TV
BEGIN:VTIMEZONE
TZID:Europe/London
TZURL:http://tzurl.org/zoneinfo/Europe/London
X-LIC-LOCATION:Europe/London
BEGIN:DAYLIGHT
TZOFFSETFROM:+0000
TZOFFSETTO:+0100
TZNAME:BST
DTSTART:20170326T020000Z
RRULE:FREQ=YEARLY;BYMONTH=3;BYDAY=-1SU
END:DAYLIGHT
BEGIN:STANDARD
TZOFFSETFROM:+0100
TZOFFSETTO:+0000
TZNAME:GMT
DTSTART:20171029T020000Z
RRULE:FREQ=YEARLY;BYMONTH=10;BYDAY=-1SU
END:STANDARD
END:VTIMEZONE
BEGIN:VEVENT
SUMMARY:Law & Order: True Crime 1x3 - Episode 3
DTSTAMP:20170927T061544Z
SEQUENCE:0
UID:75805-2-841ebed20eb198c4569419e99b7bf40a@themidnightzone.com
ORGANIZER;CN="Midnight":midnight@themidnightzone.com
DESCRIPTION:With Lyle and Erik in custody for suspicion of murder\, defe
	nseattorney Leslie Abramson works tirelessly alongside JillLansing to unde
	rstand the motive that could drive two young mento commit such a heinous c
	rime. Meanwhile\, the prosecutionputs Judalon Smyth on the stand to make a
	 case for releasingDr. Oziel's audio notes and tapes from his sessions wit
	h Lyleand Erik\, despite standard doctor-patient privilege. Theensuing med
	ia circus - fueled by leaks from the DistrictAttorney's office - creates f
	urther complications for thedefense and places the extended Menendez famil
	y at odds withone another.
DTSTART:20171011T020000Z
DTEND:20171011T030000Z
END:VEVENT
END:VCALENDAR
