BEGIN:VCALENDAR
VERSION:2.0
PRODID:-//InvisionCommunity Events 4.7.23//EN
METHOD:PUBLISH
CALSCALE:GREGORIAN
REFRESH-INTERVAL:PT15M
X-PUBLISHED-TTL:PT15M
X-WR-CALNAME:At My TV
NAME:At My TV
BEGIN:VTIMEZONE
TZID:Europe/London
TZURL:http://tzurl.org/zoneinfo/Europe/London
X-LIC-LOCATION:Europe/London
BEGIN:DAYLIGHT
TZOFFSETFROM:+0000
TZOFFSETTO:+0100
TZNAME:BST
DTSTART:20170326T020000Z
RRULE:FREQ=YEARLY;BYMONTH=3;BYDAY=-1SU
END:DAYLIGHT
BEGIN:STANDARD
TZOFFSETFROM:+0100
TZOFFSETTO:+0000
TZNAME:GMT
DTSTART:20171029T020000Z
RRULE:FREQ=YEARLY;BYMONTH=10;BYDAY=-1SU
END:STANDARD
END:VTIMEZONE
BEGIN:VEVENT
SUMMARY:The Graham Norton Show 22x3 - Jane Fonda\, Nicole Kidman\,Co
	lin Farrell\, Bryan Cranston\, Matt Lucas\, Niall Horan
DTSTAMP:20170929T061543Z
SEQUENCE:0
UID:75934-2-841ebed20eb198c4569419e99b7bf40a@themidnightzone.com
ORGANIZER;CN="Midnight":midnight@themidnightzone.com
DESCRIPTION:Graham Norton is joined by by actor and activist Jane Fonda\
	,Nicole Kidman and Colin Farrell who star in The Killing ofSacred Deer\, B
	reaking Bad's Bryan Cranston\, currentlyperforming at the National Theatre
	\, and comedian Matt Lucas.Plus music from Niall Horan\, who performs his 
	latest singleToo Much to Ask.
DTSTART:20171013T213500Z
DTEND:20171013T222500Z
END:VEVENT
END:VCALENDAR
