BEGIN:VCALENDAR
VERSION:2.0
PRODID:-//InvisionCommunity Events 4.7.23//EN
METHOD:PUBLISH
CALSCALE:GREGORIAN
REFRESH-INTERVAL:PT15M
X-PUBLISHED-TTL:PT15M
X-WR-CALNAME:At My TV
NAME:At My TV
BEGIN:VTIMEZONE
TZID:Europe/London
TZURL:http://tzurl.org/zoneinfo/Europe/London
X-LIC-LOCATION:Europe/London
BEGIN:DAYLIGHT
TZOFFSETFROM:+0000
TZOFFSETTO:+0100
TZNAME:BST
DTSTART:20170326T020000Z
RRULE:FREQ=YEARLY;BYMONTH=3;BYDAY=-1SU
END:DAYLIGHT
BEGIN:STANDARD
TZOFFSETFROM:+0100
TZOFFSETTO:+0000
TZNAME:GMT
DTSTART:20171029T020000Z
RRULE:FREQ=YEARLY;BYMONTH=10;BYDAY=-1SU
END:STANDARD
END:VTIMEZONE
BEGIN:VEVENT
SUMMARY:Blue Bloods 8x3 - The Enemy of My Enemy
DTSTAMP:20170930T061544Z
SEQUENCE:0
UID:75985-2-841ebed20eb198c4569419e99b7bf40a@themidnightzone.com
ORGANIZER;CN="Midnight":midnight@themidnightzone.com
DESCRIPTION:Erin's trial against a notorious human trafficker isjeopardi
	zed when the presiding judge is mysteriously founddead. Danny and Baez are
	 put on the case to investigate foulplay. Meanwhile\, Mayor Dutton opposes
	 Frank's public safetyinitiative\, but City Council Speaker Regina Thomas 
	devises aplan to help Frank bypass the mayor's veto.
DTSTART:20171014T020000Z
DTEND:20171014T030000Z
END:VEVENT
END:VCALENDAR
