BEGIN:VCALENDAR
VERSION:2.0
PRODID:-//InvisionCommunity Events 4.7.23//EN
METHOD:PUBLISH
CALSCALE:GREGORIAN
REFRESH-INTERVAL:PT15M
X-PUBLISHED-TTL:PT15M
X-WR-CALNAME:At My TV
NAME:At My TV
BEGIN:VTIMEZONE
TZID:Europe/London
TZURL:http://tzurl.org/zoneinfo/Europe/London
X-LIC-LOCATION:Europe/London
BEGIN:DAYLIGHT
TZOFFSETFROM:+0000
TZOFFSETTO:+0100
TZNAME:BST
DTSTART:20170326T020000Z
RRULE:FREQ=YEARLY;BYMONTH=3;BYDAY=-1SU
END:DAYLIGHT
BEGIN:STANDARD
TZOFFSETFROM:+0100
TZOFFSETTO:+0000
TZNAME:GMT
DTSTART:20171029T020000Z
RRULE:FREQ=YEARLY;BYMONTH=10;BYDAY=-1SU
END:STANDARD
END:VTIMEZONE
BEGIN:VEVENT
SUMMARY:Hawaii Five-0 8x3 - Kau pahi\, ko'u kua. Kau pu\, ko'u po'o(
	Your Knife\, My Back. My Gun\, Your Head)
DTSTAMP:20170930T061544Z
SEQUENCE:0
UID:75998-2-841ebed20eb198c4569419e99b7bf40a@themidnightzone.com
ORGANIZER;CN="Midnight":midnight@themidnightzone.com
DESCRIPTION:Five-0 enlists the help of an old friend when the boss of am
	ajor crime family is murdered\, triggering revenge killingsacross the isla
	nd. Also\, MacGarrett and Danny begin sortingout particulars in their new 
	restaurant venture.
DTSTART:20171014T010000Z
DTEND:20171014T020000Z
END:VEVENT
END:VCALENDAR
