BEGIN:VCALENDAR
VERSION:2.0
PRODID:-//InvisionCommunity Events 4.7.23//EN
METHOD:PUBLISH
CALSCALE:GREGORIAN
REFRESH-INTERVAL:PT15M
X-PUBLISHED-TTL:PT15M
X-WR-CALNAME:At My TV
NAME:At My TV
BEGIN:VTIMEZONE
TZID:Europe/London
TZURL:http://tzurl.org/zoneinfo/Europe/London
X-LIC-LOCATION:Europe/London
BEGIN:DAYLIGHT
TZOFFSETFROM:+0000
TZOFFSETTO:+0100
TZNAME:BST
DTSTART:20170326T020000Z
RRULE:FREQ=YEARLY;BYMONTH=3;BYDAY=-1SU
END:DAYLIGHT
BEGIN:STANDARD
TZOFFSETFROM:+0100
TZOFFSETTO:+0000
TZNAME:GMT
DTSTART:20171029T020000Z
RRULE:FREQ=YEARLY;BYMONTH=10;BYDAY=-1SU
END:STANDARD
END:VTIMEZONE
BEGIN:VEVENT
SUMMARY:Jamie's Quick and Easy Food 1x8 - Sausage Carbonara\, Thai R
	edChicken\, Scrambled Egg Omelette
DTSTAMP:20170930T061544Z
SEQUENCE:0
UID:76001-2-841ebed20eb198c4569419e99b7bf40a@themidnightzone.com
ORGANIZER;CN="Midnight":midnight@themidnightzone.com
DESCRIPTION:Jamie Oliver cooks a super-fast\, stress-free sausage carbon
	arawith a peppery punch. There's also a spicy one-pot Thai redchicken soup
	\; a scrambled egg omelette\; and steamed puddingwith a speedy\, sticky ma
	rmalade glaze.
DTSTART:20171009T190000Z
DTEND:20171009T193000Z
END:VEVENT
END:VCALENDAR
