BEGIN:VCALENDAR
VERSION:2.0
PRODID:-//InvisionCommunity Events 4.7.23//EN
METHOD:PUBLISH
CALSCALE:GREGORIAN
REFRESH-INTERVAL:PT15M
X-PUBLISHED-TTL:PT15M
X-WR-CALNAME:At My TV
NAME:At My TV
BEGIN:VTIMEZONE
TZID:Europe/London
TZURL:http://tzurl.org/zoneinfo/Europe/London
X-LIC-LOCATION:Europe/London
BEGIN:DAYLIGHT
TZOFFSETFROM:+0000
TZOFFSETTO:+0100
TZNAME:BST
DTSTART:20170326T020000Z
RRULE:FREQ=YEARLY;BYMONTH=3;BYDAY=-1SU
END:DAYLIGHT
BEGIN:STANDARD
TZOFFSETFROM:+0100
TZOFFSETTO:+0000
TZNAME:GMT
DTSTART:20171029T020000Z
RRULE:FREQ=YEARLY;BYMONTH=10;BYDAY=-1SU
END:STANDARD
END:VTIMEZONE
BEGIN:VEVENT
SUMMARY:W1A 3x5 - Episode 5
DTSTAMP:20171002T061543Z
SEQUENCE:0
UID:76147-2-841ebed20eb198c4569419e99b7bf40a@themidnightzone.com
ORGANIZER;CN="Midnight":midnight@themidnightzone.com
DESCRIPTION:The renewal group has to respond to rumours that Strictly Co
	meDancing presenter Claudia Winkleman is about to leave the BBCfor a rival
	 broadcaster. Ex-intern Will's attempts to get acelebrity face to help lau
	nch BBC Me\, the new onlineplatform\, have come back to bite him and the B
	BC. Head of newsNeil Reid is asked to see whether his main news presenters
	would consider doubling up and presenting the weather forecastas well.
DTSTART:20171016T210000Z
DTEND:20171016T213000Z
END:VEVENT
END:VCALENDAR
